BEGIN:VCALENDAR
VERSION:2.0
PRODID:-//Herstal Sports - ECPv6.15.20//NONSGML v1.0//EN
CALSCALE:GREGORIAN
METHOD:PUBLISH
X-ORIGINAL-URL:https://herstal-sports.be
X-WR-CALDESC:Évènements pour Herstal Sports
REFRESH-INTERVAL;VALUE=DURATION:PT1H
X-Robots-Tag:noindex
X-PUBLISHED-TTL:PT1H
BEGIN:VTIMEZONE
TZID:Europe/Brussels
BEGIN:DAYLIGHT
TZOFFSETFROM:+0100
TZOFFSETTO:+0200
TZNAME:CEST
DTSTART:20220327T010000
END:DAYLIGHT
BEGIN:STANDARD
TZOFFSETFROM:+0200
TZOFFSETTO:+0100
TZNAME:CET
DTSTART:20221030T010000
END:STANDARD
BEGIN:DAYLIGHT
TZOFFSETFROM:+0100
TZOFFSETTO:+0200
TZNAME:CEST
DTSTART:20230326T010000
END:DAYLIGHT
BEGIN:STANDARD
TZOFFSETFROM:+0200
TZOFFSETTO:+0100
TZNAME:CET
DTSTART:20231029T010000
END:STANDARD
BEGIN:DAYLIGHT
TZOFFSETFROM:+0100
TZOFFSETTO:+0200
TZNAME:CEST
DTSTART:20240331T010000
END:DAYLIGHT
BEGIN:STANDARD
TZOFFSETFROM:+0200
TZOFFSETTO:+0100
TZNAME:CET
DTSTART:20241027T010000
END:STANDARD
BEGIN:DAYLIGHT
TZOFFSETFROM:+0100
TZOFFSETTO:+0200
TZNAME:CEST
DTSTART:20250330T010000
END:DAYLIGHT
BEGIN:STANDARD
TZOFFSETFROM:+0200
TZOFFSETTO:+0100
TZNAME:CET
DTSTART:20251026T010000
END:STANDARD
BEGIN:DAYLIGHT
TZOFFSETFROM:+0100
TZOFFSETTO:+0200
TZNAME:CEST
DTSTART:20260329T010000
END:DAYLIGHT
BEGIN:STANDARD
TZOFFSETFROM:+0200
TZOFFSETTO:+0100
TZNAME:CET
DTSTART:20261025T010000
END:STANDARD
BEGIN:DAYLIGHT
TZOFFSETFROM:+0100
TZOFFSETTO:+0200
TZNAME:CEST
DTSTART:20270328T010000
END:DAYLIGHT
BEGIN:STANDARD
TZOFFSETFROM:+0200
TZOFFSETTO:+0100
TZNAME:CET
DTSTART:20271031T010000
END:STANDARD
END:VTIMEZONE
BEGIN:VEVENT
DTSTART;TZID=Europe/Brussels:20260202T080000
DTEND;TZID=Europe/Brussels:20260205T170000
DTSTAMP:20260423T165503
CREATED:20260130T092433Z
LAST-MODIFIED:20260130T092433Z
UID:6351-1770019200-1770310800@herstal-sports.be
SUMMARY:Stage olympique de judo
DESCRIPTION:
URL:https://herstal-sports.be/event/stage-olympique-de-judo-2/
LOCATION:Hall La Préalle\, Rue Emile Muraille 158\, Herstal\, Liège\, 4040\, Belgique
END:VEVENT
BEGIN:VEVENT
DTSTART;TZID=Europe/Brussels:20230613T103000
DTEND;TZID=Europe/Brussels:20230613T120000
DTSTAMP:20260423T165503
CREATED:20230612T053810Z
LAST-MODIFIED:20230623T055724Z
UID:1062-1686652200-1686657600@herstal-sports.be
SUMMARY:Ecoles Communales
DESCRIPTION:
URL:https://herstal-sports.be/event/ecoles-communales-6/
LOCATION:Hall La Préalle\, Rue Emile Muraille 158\, Herstal\, Liège\, 4040\, Belgique
CATEGORIES:Hall La Préalle Grande Salle
END:VEVENT
BEGIN:VEVENT
DTSTART;TZID=Europe/Brussels:20230613T110000
DTEND;TZID=Europe/Brussels:20230613T140000
DTSTAMP:20260423T165503
CREATED:20230607T052400Z
LAST-MODIFIED:20230608T094444Z
UID:781-1686654000-1686664800@herstal-sports.be
SUMMARY:Ecoles
DESCRIPTION:
URL:https://herstal-sports.be/event/ecoles-3/
LOCATION:Hall Michel Daerden\, Rue de L' Abattoir 65\, Herstal\, Liège\, 4040\, Belgique
CATEGORIES:Hall Michel Daerden Grande salle
END:VEVENT
BEGIN:VEVENT
DTSTART;TZID=Europe/Brussels:20230613T110000
DTEND;TZID=Europe/Brussels:20230613T140000
DTSTAMP:20260423T165503
CREATED:20230607T112603Z
LAST-MODIFIED:20230607T112603Z
UID:948-1686654000-1686664800@herstal-sports.be
SUMMARY:Ecoles
DESCRIPTION:
URL:https://herstal-sports.be/event/ecoles-12/
LOCATION:Hall Michel Daerden\, Rue de L' Abattoir 65\, Herstal\, Liège\, 4040\, Belgique
CATEGORIES:Hall Michel Daerden Salle polyvalente
END:VEVENT
BEGIN:VEVENT
DTSTART;TZID=Europe/Brussels:20230613T123000
DTEND;TZID=Europe/Brussels:20230613T140000
DTSTAMP:20260423T165503
CREATED:20230612T053742Z
LAST-MODIFIED:20230623T055756Z
UID:1060-1686659400-1686664800@herstal-sports.be
SUMMARY:Ecoles Communales
DESCRIPTION:
URL:https://herstal-sports.be/event/ecoles-communales-5/
LOCATION:Hall La Préalle\, Rue Emile Muraille 158\, Herstal\, Liège\, 4040\, Belgique
CATEGORIES:Hall La Préalle Grande Salle
END:VEVENT
BEGIN:VEVENT
DTSTART;TZID=Europe/Brussels:20230613T150000
DTEND;TZID=Europe/Brussels:20230613T180000
DTSTAMP:20260423T165503
CREATED:20230607T053359Z
LAST-MODIFIED:20230608T094719Z
UID:796-1686668400-1686679200@herstal-sports.be
SUMMARY:Ecoles
DESCRIPTION:
URL:https://herstal-sports.be/event/ecoles-4/
LOCATION:Hall Michel Daerden\, Rue de L' Abattoir 65\, Herstal\, Liège\, 4040\, Belgique
CATEGORIES:Hall Michel Daerden Grande salle
END:VEVENT
BEGIN:VEVENT
DTSTART;TZID=Europe/Brussels:20230613T150000
DTEND;TZID=Europe/Brussels:20230613T180000
DTSTAMP:20260423T165503
CREATED:20230607T112720Z
LAST-MODIFIED:20230608T094524Z
UID:951-1686668400-1686679200@herstal-sports.be
SUMMARY:Ecoles
DESCRIPTION:
URL:https://herstal-sports.be/event/ecoles-13/
LOCATION:Hall Michel Daerden\, Rue de L' Abattoir 65\, Herstal\, Liège\, 4040\, Belgique
CATEGORIES:Hall Michel Daerden Salle polyvalente
END:VEVENT
BEGIN:VEVENT
DTSTART;TZID=Europe/Brussels:20230613T153000
DTEND;TZID=Europe/Brussels:20230613T173000
DTSTAMP:20260423T165503
CREATED:20230612T053716Z
LAST-MODIFIED:20230623T055825Z
UID:1058-1686670200-1686677400@herstal-sports.be
SUMMARY:Ecoles Communales
DESCRIPTION:
URL:https://herstal-sports.be/event/ecoles-communales-4/
LOCATION:Hall La Préalle\, Rue Emile Muraille 158\, Herstal\, Liège\, 4040\, Belgique
CATEGORIES:Hall La Préalle Grande Salle
END:VEVENT
BEGIN:VEVENT
DTSTART;TZID=Europe/Brussels:20230613T180000
DTEND;TZID=Europe/Brussels:20230613T190000
DTSTAMP:20260423T165503
CREATED:20230612T054957Z
LAST-MODIFIED:20230623T054606Z
UID:1078-1686679200-1686682800@herstal-sports.be
SUMMARY:Ecoles des Sports
DESCRIPTION:
URL:https://herstal-sports.be/event/ecoles-des-sports-2/
LOCATION:Hall La Préalle\, Rue Emile Muraille 158\, Herstal\, Liège\, 4040\, Belgique
CATEGORIES:Hall La Préalle Grande Salle
END:VEVENT
BEGIN:VEVENT
DTSTART;TZID=Europe/Brussels:20230613T193000
DTEND;TZID=Europe/Brussels:20230613T224500
DTSTAMP:20260423T165503
CREATED:20230612T055255Z
LAST-MODIFIED:20230612T055331Z
UID:1086-1686684600-1686696300@herstal-sports.be
SUMMARY:Badminton
DESCRIPTION:
URL:https://herstal-sports.be/event/badminton/
LOCATION:Hall La Préalle\, Rue Emile Muraille 158\, Herstal\, Liège\, 4040\, Belgique
CATEGORIES:Hall La Préalle Grande Salle
END:VEVENT
BEGIN:VEVENT
DTSTART;TZID=Europe/Brussels:20260203T190000
DTEND;TZID=Europe/Brussels:20260203T210000
DTSTAMP:20260423T165503
CREATED:20260130T103120Z
LAST-MODIFIED:20260130T103120Z
UID:6366-1770145200-1770152400@herstal-sports.be
SUMMARY:Vooeux de le RCA et mérites sportifs
DESCRIPTION:
URL:https://herstal-sports.be/event/vooeux-de-le-rca-et-merites-sportifs/
LOCATION:Hall La Préalle\, Rue Emile Muraille 158\, Herstal\, Liège\, 4040\, Belgique
END:VEVENT
BEGIN:VEVENT
DTSTART;TZID=Europe/Brussels:20230613T200000
DTEND;TZID=Europe/Brussels:20230613T230000
DTSTAMP:20260423T165503
CREATED:20230607T112933Z
LAST-MODIFIED:20230607T112933Z
UID:956-1686686400-1686697200@herstal-sports.be
SUMMARY:Boxe anglaise
DESCRIPTION:
URL:https://herstal-sports.be/event/boxe-anglaise/
LOCATION:Hall Michel Daerden\, Rue de L' Abattoir 65\, Herstal\, Liège\, 4040\, Belgique
CATEGORIES:Hall Michel Daerden Salle polyvalente
END:VEVENT
BEGIN:VEVENT
DTSTART;TZID=Europe/Brussels:20230613T210000
DTEND;TZID=Europe/Brussels:20230613T223000
DTSTAMP:20260423T165503
CREATED:20230607T053655Z
LAST-MODIFIED:20230607T053655Z
UID:802-1686690000-1686695400@herstal-sports.be
SUMMARY:Handball Dames JS Herstal
DESCRIPTION:
URL:https://herstal-sports.be/event/handball-dames-js-herstal/
LOCATION:Hall Michel Daerden\, Rue de L' Abattoir 65\, Herstal\, Liège\, 4040\, Belgique
CATEGORIES:Hall Michel Daerden Grande salle
END:VEVENT
BEGIN:VEVENT
DTSTART;TZID=Europe/Brussels:20230613T223000
DTEND;TZID=Europe/Brussels:20230614T000000
DTSTAMP:20260423T165503
CREATED:20230607T053816Z
LAST-MODIFIED:20230607T053816Z
UID:806-1686695400-1686700800@herstal-sports.be
SUMMARY:Handball Hommes JS Herstal
DESCRIPTION:
URL:https://herstal-sports.be/event/handball-hommes-js-herstal/
LOCATION:Hall Michel Daerden\, Rue de L' Abattoir 65\, Herstal\, Liège\, 4040\, Belgique
CATEGORIES:Hall Michel Daerden Grande salle
END:VEVENT
BEGIN:VEVENT
DTSTART;TZID=Europe/Brussels:20230613T230000
DTEND;TZID=Europe/Brussels:20230614T000000
DTSTAMP:20260423T165503
CREATED:20230612T055818Z
LAST-MODIFIED:20230612T055818Z
UID:1088-1686697200-1686700800@herstal-sports.be
SUMMARY:Quattro Stelle
DESCRIPTION:
URL:https://herstal-sports.be/event/quattro-stelle/
LOCATION:Hall La Préalle\, Rue Emile Muraille 158\, Herstal\, Liège\, 4040\, Belgique
CATEGORIES:Hall La Préalle Grande Salle
END:VEVENT
BEGIN:VEVENT
DTSTART;TZID=Europe/Brussels:20230614T000000
DTEND;TZID=Europe/Brussels:20230614T010000
DTSTAMP:20260423T165503
CREATED:20230607T054010Z
LAST-MODIFIED:20230607T054010Z
UID:809-1686700800-1686704400@herstal-sports.be
SUMMARY:CCTH
DESCRIPTION:
URL:https://herstal-sports.be/event/ccth/
LOCATION:Hall Michel Daerden\, Rue de L' Abattoir 65\, Herstal\, Liège\, 4040\, Belgique
CATEGORIES:Hall Michel Daerden Grande salle
END:VEVENT
BEGIN:VEVENT
DTSTART;TZID=Europe/Brussels:20230614T000000
DTEND;TZID=Europe/Brussels:20230614T010000
DTSTAMP:20260423T165503
CREATED:20230612T060012Z
LAST-MODIFIED:20230612T060012Z
UID:1090-1686700800-1686704400@herstal-sports.be
SUMMARY:Séleçäo
DESCRIPTION:
URL:https://herstal-sports.be/event/selecao/
LOCATION:Hall La Préalle\, Rue Emile Muraille 158\, Herstal\, Liège\, 4040\, Belgique
CATEGORIES:Hall La Préalle Grande Salle
END:VEVENT
END:VCALENDAR