BEGIN:VCALENDAR
VERSION:2.0
PRODID:-//Herstal Sports - ECPv6.15.20//NONSGML v1.0//EN
CALSCALE:GREGORIAN
METHOD:PUBLISH
X-ORIGINAL-URL:https://herstal-sports.be
X-WR-CALDESC:Évènements pour Herstal Sports
REFRESH-INTERVAL;VALUE=DURATION:PT1H
X-Robots-Tag:noindex
X-PUBLISHED-TTL:PT1H
BEGIN:VTIMEZONE
TZID:Europe/Brussels
BEGIN:DAYLIGHT
TZOFFSETFROM:+0100
TZOFFSETTO:+0200
TZNAME:CEST
DTSTART:20220327T010000
END:DAYLIGHT
BEGIN:STANDARD
TZOFFSETFROM:+0200
TZOFFSETTO:+0100
TZNAME:CET
DTSTART:20221030T010000
END:STANDARD
BEGIN:DAYLIGHT
TZOFFSETFROM:+0100
TZOFFSETTO:+0200
TZNAME:CEST
DTSTART:20230326T010000
END:DAYLIGHT
BEGIN:STANDARD
TZOFFSETFROM:+0200
TZOFFSETTO:+0100
TZNAME:CET
DTSTART:20231029T010000
END:STANDARD
BEGIN:DAYLIGHT
TZOFFSETFROM:+0100
TZOFFSETTO:+0200
TZNAME:CEST
DTSTART:20240331T010000
END:DAYLIGHT
BEGIN:STANDARD
TZOFFSETFROM:+0200
TZOFFSETTO:+0100
TZNAME:CET
DTSTART:20241027T010000
END:STANDARD
BEGIN:DAYLIGHT
TZOFFSETFROM:+0100
TZOFFSETTO:+0200
TZNAME:CEST
DTSTART:20250330T010000
END:DAYLIGHT
BEGIN:STANDARD
TZOFFSETFROM:+0200
TZOFFSETTO:+0100
TZNAME:CET
DTSTART:20251026T010000
END:STANDARD
BEGIN:DAYLIGHT
TZOFFSETFROM:+0100
TZOFFSETTO:+0200
TZNAME:CEST
DTSTART:20260329T010000
END:DAYLIGHT
BEGIN:STANDARD
TZOFFSETFROM:+0200
TZOFFSETTO:+0100
TZNAME:CET
DTSTART:20261025T010000
END:STANDARD
BEGIN:DAYLIGHT
TZOFFSETFROM:+0100
TZOFFSETTO:+0200
TZNAME:CEST
DTSTART:20270328T010000
END:DAYLIGHT
BEGIN:STANDARD
TZOFFSETFROM:+0200
TZOFFSETTO:+0100
TZNAME:CET
DTSTART:20271031T010000
END:STANDARD
END:VTIMEZONE
BEGIN:VEVENT
DTSTART;TZID=Europe/Brussels:20260214T080000
DTEND;TZID=Europe/Brussels:20260215T220000
DTSTAMP:20260423T170514
CREATED:20250822T103539Z
LAST-MODIFIED:20250822T103539Z
UID:5820-1771056000-1771192800@herstal-sports.be
SUMMARY:Tournoi Black Light (Volley)
DESCRIPTION:Pour tout renseignement : 0492/92 84 70 \n  \n 
URL:https://herstal-sports.be/event/tournoi-black-light-volley/
LOCATION:Hall Michel Daerden\, Rue de L' Abattoir 65\, Herstal\, Liège\, 4040\, Belgique
ORGANIZER;CN="Herstal Volleyball Club":MAILTO:herstalvbc@gmail.com
END:VEVENT
BEGIN:VEVENT
DTSTART;TZID=Europe/Brussels:20230617T120000
DTEND;TZID=Europe/Brussels:20230617T140000
DTSTAMP:20260423T170514
CREATED:20230607T062236Z
LAST-MODIFIED:20230607T062236Z
UID:891-1687003200-1687010400@herstal-sports.be
SUMMARY:Handball HC
DESCRIPTION:
URL:https://herstal-sports.be/event/handball-hc/
LOCATION:Hall Michel Daerden\, Rue de L' Abattoir 65\, Herstal\, Liège\, 4040\, Belgique
CATEGORIES:Hall Michel Daerden Grande salle
END:VEVENT
BEGIN:VEVENT
DTSTART;TZID=Europe/Brussels:20230617T150000
DTEND;TZID=Europe/Brussels:20230617T180000
DTSTAMP:20260423T170514
CREATED:20230607T062355Z
LAST-MODIFIED:20230607T062355Z
UID:894-1687014000-1687024800@herstal-sports.be
SUMMARY:Handball JS Herstal
DESCRIPTION:
URL:https://herstal-sports.be/event/handball-js-herstal-2/
LOCATION:Hall Michel Daerden\, Rue de L' Abattoir 65\, Herstal\, Liège\, 4040\, Belgique
CATEGORIES:Hall Michel Daerden Grande salle
END:VEVENT
BEGIN:VEVENT
DTSTART;TZID=Europe/Brussels:20230624T150000
DTEND;TZID=Europe/Brussels:20230624T203000
DTSTAMP:20260423T170514
CREATED:20230612T061543Z
LAST-MODIFIED:20230612T061543Z
UID:1120-1687618800-1687638600@herstal-sports.be
SUMMARY:Handball
DESCRIPTION:
URL:https://herstal-sports.be/event/handball-2/
LOCATION:Hall La Préalle\, Rue Emile Muraille 158\, Herstal\, Liège\, 4040\, Belgique
CATEGORIES:Hall La Préalle Grande Salle
END:VEVENT
BEGIN:VEVENT
DTSTART;TZID=Europe/Brussels:20230617T160000
DTEND;TZID=Europe/Brussels:20230617T180000
DTSTAMP:20260423T170514
CREATED:20230607T114108Z
LAST-MODIFIED:20230608T080914Z
UID:991-1687017600-1687024800@herstal-sports.be
SUMMARY:Volley FC Herstal
DESCRIPTION:
URL:https://herstal-sports.be/event/volley-fc-herstal-2/
LOCATION:Hall Michel Daerden\, Rue de L' Abattoir 65\, Herstal\, Liège\, 4040\, Belgique
CATEGORIES:Hall Michel Daerden Salle polyvalente
END:VEVENT
BEGIN:VEVENT
DTSTART;TZID=Europe/Brussels:20230624T200000
DTEND;TZID=Europe/Brussels:20230624T213000
DTSTAMP:20260423T170514
CREATED:20230607T062638Z
LAST-MODIFIED:20230607T062714Z
UID:900-1687636800-1687642200@herstal-sports.be
SUMMARY:JS D Jemeppe
DESCRIPTION:
URL:https://herstal-sports.be/event/hs-d-jemeppe/
LOCATION:Hall Michel Daerden\, Rue de L' Abattoir 65\, Herstal\, Liège\, 4040\, Belgique
CATEGORIES:Hall Michel Daerden Grande salle
END:VEVENT
BEGIN:VEVENT
DTSTART;TZID=Europe/Brussels:20230624T213000
DTEND;TZID=Europe/Brussels:20230624T223000
DTSTAMP:20260423T170514
CREATED:20230607T062828Z
LAST-MODIFIED:20230607T062828Z
UID:905-1687642200-1687645800@herstal-sports.be
SUMMARY:JS H Flémalle
DESCRIPTION:
URL:https://herstal-sports.be/event/js-h-flemalle/
LOCATION:Hall Michel Daerden\, Rue de L' Abattoir 65\, Herstal\, Liège\, 4040\, Belgique
CATEGORIES:Hall Michel Daerden Grande salle
END:VEVENT
BEGIN:VEVENT
DTSTART;TZID=Europe/Brussels:20230624T223000
DTEND;TZID=Europe/Brussels:20230624T230000
DTSTAMP:20260423T170514
CREATED:20230607T062937Z
LAST-MODIFIED:20230607T062937Z
UID:908-1687645800-1687647600@herstal-sports.be
SUMMARY:JS H
DESCRIPTION:
URL:https://herstal-sports.be/event/js-h/
LOCATION:Hall Michel Daerden\, Rue de L' Abattoir 65\, Herstal\, Liège\, 4040\, Belgique
CATEGORIES:Hall Michel Daerden Grande salle
END:VEVENT
END:VCALENDAR