BEGIN:VCALENDAR
VERSION:2.0
PRODID:-//Herstal Sports - ECPv6.15.20//NONSGML v1.0//EN
CALSCALE:GREGORIAN
METHOD:PUBLISH
X-WR-CALNAME:Herstal Sports
X-ORIGINAL-URL:https://herstal-sports.be
X-WR-CALDESC:Évènements pour Herstal Sports
REFRESH-INTERVAL;VALUE=DURATION:PT1H
X-Robots-Tag:noindex
X-PUBLISHED-TTL:PT1H
BEGIN:VTIMEZONE
TZID:Europe/Brussels
BEGIN:DAYLIGHT
TZOFFSETFROM:+0100
TZOFFSETTO:+0200
TZNAME:CEST
DTSTART:20220327T010000
END:DAYLIGHT
BEGIN:STANDARD
TZOFFSETFROM:+0200
TZOFFSETTO:+0100
TZNAME:CET
DTSTART:20221030T010000
END:STANDARD
BEGIN:DAYLIGHT
TZOFFSETFROM:+0100
TZOFFSETTO:+0200
TZNAME:CEST
DTSTART:20230326T010000
END:DAYLIGHT
BEGIN:STANDARD
TZOFFSETFROM:+0200
TZOFFSETTO:+0100
TZNAME:CET
DTSTART:20231029T010000
END:STANDARD
BEGIN:DAYLIGHT
TZOFFSETFROM:+0100
TZOFFSETTO:+0200
TZNAME:CEST
DTSTART:20240331T010000
END:DAYLIGHT
BEGIN:STANDARD
TZOFFSETFROM:+0200
TZOFFSETTO:+0100
TZNAME:CET
DTSTART:20241027T010000
END:STANDARD
BEGIN:DAYLIGHT
TZOFFSETFROM:+0100
TZOFFSETTO:+0200
TZNAME:CEST
DTSTART:20250330T010000
END:DAYLIGHT
BEGIN:STANDARD
TZOFFSETFROM:+0200
TZOFFSETTO:+0100
TZNAME:CET
DTSTART:20251026T010000
END:STANDARD
BEGIN:DAYLIGHT
TZOFFSETFROM:+0100
TZOFFSETTO:+0200
TZNAME:CEST
DTSTART:20260329T010000
END:DAYLIGHT
BEGIN:STANDARD
TZOFFSETFROM:+0200
TZOFFSETTO:+0100
TZNAME:CET
DTSTART:20261025T010000
END:STANDARD
BEGIN:DAYLIGHT
TZOFFSETFROM:+0100
TZOFFSETTO:+0200
TZNAME:CEST
DTSTART:20270328T010000
END:DAYLIGHT
BEGIN:STANDARD
TZOFFSETFROM:+0200
TZOFFSETTO:+0100
TZNAME:CET
DTSTART:20271031T010000
END:STANDARD
END:VTIMEZONE
BEGIN:VEVENT
DTSTART;TZID=Europe/Brussels:20260306T080000
DTEND;TZID=Europe/Brussels:20260308T220000
DTSTAMP:20260423T150815
CREATED:20260303T092048Z
LAST-MODIFIED:20260303T093523Z
UID:7832-1772784000-1773007200@herstal-sports.be
SUMMARY:Tournoi de fléchettes Bull Shooter Darts 2026
DESCRIPTION:
URL:https://herstal-sports.be/event/tournoi-de-flechettes-bull-shooter-darts-2026/
LOCATION:Hall La Préalle\, Rue Emile Muraille 158\, Herstal\, Liège\, 4040\, Belgique
END:VEVENT
BEGIN:VEVENT
DTSTART;TZID=Europe/Brussels:20230618T113000
DTEND;TZID=Europe/Brussels:20230619T003000
DTSTAMP:20260423T150815
CREATED:20230607T114157Z
LAST-MODIFIED:20230607T114157Z
UID:994-1687087800-1687134600@herstal-sports.be
SUMMARY:24 fit challenge
DESCRIPTION:
URL:https://herstal-sports.be/event/24-fit-challenge/
LOCATION:Hall Michel Daerden\, Rue de L' Abattoir 65\, Herstal\, Liège\, 4040\, Belgique
CATEGORIES:Hall Michel Daerden Salle polyvalente
END:VEVENT
BEGIN:VEVENT
DTSTART;TZID=Europe/Brussels:20230618T120000
DTEND;TZID=Europe/Brussels:20230618T140000
DTSTAMP:20260423T150815
CREATED:20230612T061443Z
LAST-MODIFIED:20230623T060317Z
UID:1118-1687089600-1687096800@herstal-sports.be
SUMMARY:Basket
DESCRIPTION:
URL:https://herstal-sports.be/event/basket-9/
LOCATION:Hall La Préalle\, Rue Emile Muraille 158\, Herstal\, Liège\, 4040\, Belgique
CATEGORIES:Hall La Préalle Grande Salle
END:VEVENT
BEGIN:VEVENT
DTSTART;TZID=Europe/Brussels:20230618T120000
DTEND;TZID=Europe/Brussels:20230619T000000
DTSTAMP:20260423T150815
CREATED:20230607T063201Z
LAST-MODIFIED:20230607T063201Z
UID:913-1687089600-1687132800@herstal-sports.be
SUMMARY:Volley FC Herstal
DESCRIPTION:
URL:https://herstal-sports.be/event/volley-fc-herstal/
LOCATION:Hall Michel Daerden\, Rue de L' Abattoir 65\, Herstal\, Liège\, 4040\, Belgique
CATEGORIES:Hall Michel Daerden Grande salle
END:VEVENT
BEGIN:VEVENT
DTSTART;TZID=Europe/Brussels:20230618T123000
DTEND;TZID=Europe/Brussels:20230618T200000
DTSTAMP:20260423T150815
CREATED:20230607T114250Z
LAST-MODIFIED:20230607T114250Z
UID:997-1687091400-1687118400@herstal-sports.be
SUMMARY:La potion magique
DESCRIPTION:
URL:https://herstal-sports.be/event/la-potion-magique/
LOCATION:Hall Michel Daerden\, Rue de L' Abattoir 65\, Herstal\, Liège\, 4040\, Belgique
CATEGORIES:Hall Michel Daerden Salle polyvalente
END:VEVENT
END:VCALENDAR