BEGIN:VCALENDAR
VERSION:2.0
PRODID:-//Herstal Sports - ECPv6.15.20//NONSGML v1.0//EN
CALSCALE:GREGORIAN
METHOD:PUBLISH
X-ORIGINAL-URL:https://herstal-sports.be
X-WR-CALDESC:Évènements pour Herstal Sports
REFRESH-INTERVAL;VALUE=DURATION:PT1H
X-Robots-Tag:noindex
X-PUBLISHED-TTL:PT1H
BEGIN:VTIMEZONE
TZID:Europe/Brussels
BEGIN:DAYLIGHT
TZOFFSETFROM:+0100
TZOFFSETTO:+0200
TZNAME:CEST
DTSTART:20220327T010000
END:DAYLIGHT
BEGIN:STANDARD
TZOFFSETFROM:+0200
TZOFFSETTO:+0100
TZNAME:CET
DTSTART:20221030T010000
END:STANDARD
BEGIN:DAYLIGHT
TZOFFSETFROM:+0100
TZOFFSETTO:+0200
TZNAME:CEST
DTSTART:20230326T010000
END:DAYLIGHT
BEGIN:STANDARD
TZOFFSETFROM:+0200
TZOFFSETTO:+0100
TZNAME:CET
DTSTART:20231029T010000
END:STANDARD
BEGIN:DAYLIGHT
TZOFFSETFROM:+0100
TZOFFSETTO:+0200
TZNAME:CEST
DTSTART:20240331T010000
END:DAYLIGHT
BEGIN:STANDARD
TZOFFSETFROM:+0200
TZOFFSETTO:+0100
TZNAME:CET
DTSTART:20241027T010000
END:STANDARD
END:VTIMEZONE
BEGIN:VEVENT
DTSTART;TZID=Europe/Brussels:20230615T193000
DTEND;TZID=Europe/Brussels:20230616T010000
DTSTAMP:20260423T200419
CREATED:20230612T060625Z
LAST-MODIFIED:20230612T060625Z
UID:1098-1686857400-1686877200@herstal-sports.be
SUMMARY:Badminton
DESCRIPTION:
URL:https://herstal-sports.be/event/badminton-3/
LOCATION:Hall La Préalle\, Rue Emile Muraille 158\, Herstal\, Liège\, 4040\, Belgique
CATEGORIES:Hall La Préalle Grande Salle
END:VEVENT
BEGIN:VEVENT
DTSTART;TZID=Europe/Brussels:20230615T203000
DTEND;TZID=Europe/Brussels:20230616T003000
DTSTAMP:20260423T200419
CREATED:20230607T055948Z
LAST-MODIFIED:20230607T055948Z
UID:855-1686861000-1686875400@herstal-sports.be
SUMMARY:Volley P4D P3D N3H P1H
DESCRIPTION:
URL:https://herstal-sports.be/event/volley-p4d-p3d-n3h-p1h/
LOCATION:Hall Michel Daerden\, Rue de L' Abattoir 65\, Herstal\, Liège\, 4040\, Belgique
CATEGORIES:Hall Michel Daerden Grande salle
END:VEVENT
BEGIN:VEVENT
DTSTART;TZID=Europe/Brussels:20230616T103000
DTEND;TZID=Europe/Brussels:20230616T120000
DTSTAMP:20260423T200419
CREATED:20230612T054343Z
LAST-MODIFIED:20230623T054714Z
UID:1076-1686911400-1686916800@herstal-sports.be
SUMMARY:Ecoles Communales
DESCRIPTION:
URL:https://herstal-sports.be/event/ecoles-communales-13/
LOCATION:Hall La Préalle\, Rue Emile Muraille 158\, Herstal\, Liège\, 4040\, Belgique
CATEGORIES:Hall La Préalle Grande Salle
END:VEVENT
BEGIN:VEVENT
DTSTART;TZID=Europe/Brussels:20230616T110000
DTEND;TZID=Europe/Brussels:20230616T120000
DTSTAMP:20260423T200419
CREATED:20230607T113559Z
LAST-MODIFIED:20230607T113559Z
UID:977-1686913200-1686916800@herstal-sports.be
SUMMARY:Tae Kwon Do
DESCRIPTION:
URL:https://herstal-sports.be/event/tae-kwon-do-3/
LOCATION:Hall Michel Daerden\, Rue de L' Abattoir 65\, Herstal\, Liège\, 4040\, Belgique
CATEGORIES:Hall Michel Daerden Salle polyvalente
END:VEVENT
BEGIN:VEVENT
DTSTART;TZID=Europe/Brussels:20230616T110000
DTEND;TZID=Europe/Brussels:20230616T140000
DTSTAMP:20260423T200419
CREATED:20230607T061149Z
LAST-MODIFIED:20230608T101251Z
UID:867-1686913200-1686924000@herstal-sports.be
SUMMARY:Ecoles
DESCRIPTION:
URL:https://herstal-sports.be/event/ecoles-8/
LOCATION:Hall Michel Daerden\, Rue de L' Abattoir 65\, Herstal\, Liège\, 4040\, Belgique
CATEGORIES:Hall Michel Daerden Grande salle
END:VEVENT
BEGIN:VEVENT
DTSTART;TZID=Europe/Brussels:20230616T120000
DTEND;TZID=Europe/Brussels:20230616T140000
DTSTAMP:20260423T200419
CREATED:20230607T113640Z
LAST-MODIFIED:20230623T054849Z
UID:980-1686916800-1686924000@herstal-sports.be
SUMMARY:Ecoles
DESCRIPTION:
URL:https://herstal-sports.be/event/ecoles-17/
LOCATION:Hall Michel Daerden\, Rue de L' Abattoir 65\, Herstal\, Liège\, 4040\, Belgique
CATEGORIES:Hall Michel Daerden Salle polyvalente
END:VEVENT
BEGIN:VEVENT
DTSTART;TZID=Europe/Brussels:20230616T123000
DTEND;TZID=Europe/Brussels:20230616T140000
DTSTAMP:20260423T200419
CREATED:20230612T054312Z
LAST-MODIFIED:20230623T054745Z
UID:1074-1686918600-1686924000@herstal-sports.be
SUMMARY:Ecoles Communales
DESCRIPTION:
URL:https://herstal-sports.be/event/ecoles-communales-12/
LOCATION:Hall La Préalle\, Rue Emile Muraille 158\, Herstal\, Liège\, 4040\, Belgique
CATEGORIES:Hall La Préalle Grande Salle
END:VEVENT
BEGIN:VEVENT
DTSTART;TZID=Europe/Brussels:20230616T150000
DTEND;TZID=Europe/Brussels:20230616T180000
DTSTAMP:20260423T200419
CREATED:20230607T061258Z
LAST-MODIFIED:20230608T101315Z
UID:870-1686927600-1686938400@herstal-sports.be
SUMMARY:Ecoles
DESCRIPTION:
URL:https://herstal-sports.be/event/ecoles-9/
LOCATION:Hall Michel Daerden\, Rue de L' Abattoir 65\, Herstal\, Liège\, 4040\, Belgique
CATEGORIES:Hall Michel Daerden Grande salle
END:VEVENT
BEGIN:VEVENT
DTSTART;TZID=Europe/Brussels:20230616T150000
DTEND;TZID=Europe/Brussels:20230616T180000
DTSTAMP:20260423T200419
CREATED:20230607T113717Z
LAST-MODIFIED:20230623T054921Z
UID:983-1686927600-1686938400@herstal-sports.be
SUMMARY:Ecoles
DESCRIPTION:
URL:https://herstal-sports.be/event/ecoles-18/
LOCATION:Hall Michel Daerden\, Rue de L' Abattoir 65\, Herstal\, Liège\, 4040\, Belgique
CATEGORIES:Hall Michel Daerden Salle polyvalente
END:VEVENT
BEGIN:VEVENT
DTSTART;TZID=Europe/Brussels:20230616T153000
DTEND;TZID=Europe/Brussels:20230616T172000
DTSTAMP:20260423T200419
CREATED:20230612T054242Z
LAST-MODIFIED:20230612T054242Z
UID:1072-1686929400-1686936000@herstal-sports.be
SUMMARY:Ecoles Communales
DESCRIPTION:
URL:https://herstal-sports.be/event/ecoles-communales-11/
LOCATION:Hall La Préalle\, Rue Emile Muraille 158\, Herstal\, Liège\, 4040\, Belgique
CATEGORIES:Hall La Préalle Grande Salle
END:VEVENT
BEGIN:VEVENT
DTSTART;TZID=Europe/Brussels:20230616T180000
DTEND;TZID=Europe/Brussels:20230616T190000
DTSTAMP:20260423T200419
CREATED:20230612T055154Z
LAST-MODIFIED:20230623T054447Z
UID:1084-1686938400-1686942000@herstal-sports.be
SUMMARY:Ecoles des Sports
DESCRIPTION:
URL:https://herstal-sports.be/event/ecoles-des-sports-5/
LOCATION:Hall La Préalle\, Rue Emile Muraille 158\, Herstal\, Liège\, 4040\, Belgique
CATEGORIES:Hall La Préalle Grande Salle
END:VEVENT
BEGIN:VEVENT
DTSTART;TZID=Europe/Brussels:20230616T183000
DTEND;TZID=Europe/Brussels:20230616T210000
DTSTAMP:20260423T200419
CREATED:20230612T060731Z
LAST-MODIFIED:20230623T060545Z
UID:1100-1686940200-1686949200@herstal-sports.be
SUMMARY:Basket
DESCRIPTION:
URL:https://herstal-sports.be/event/basket-3/
LOCATION:Hall La Préalle\, Rue Emile Muraille 158\, Herstal\, Liège\, 4040\, Belgique
CATEGORIES:Hall La Préalle Grande Salle
END:VEVENT
BEGIN:VEVENT
DTSTART;TZID=Europe/Brussels:20230616T190000
DTEND;TZID=Europe/Brussels:20230616T230000
DTSTAMP:20260423T200419
CREATED:20230607T061432Z
LAST-MODIFIED:20230607T061432Z
UID:873-1686942000-1686956400@herstal-sports.be
SUMMARY:Al Ihsan
DESCRIPTION:
URL:https://herstal-sports.be/event/al-ihsan/
LOCATION:Hall Michel Daerden\, Rue de L' Abattoir 65\, Herstal\, Liège\, 4040\, Belgique
CATEGORIES:Hall Michel Daerden Grande salle
END:VEVENT
BEGIN:VEVENT
DTSTART;TZID=Europe/Brussels:20230616T210000
DTEND;TZID=Europe/Brussels:20230616T223000
DTSTAMP:20260423T200419
CREATED:20230607T113834Z
LAST-MODIFIED:20230607T113834Z
UID:986-1686949200-1686954600@herstal-sports.be
SUMMARY:MMA
DESCRIPTION:
URL:https://herstal-sports.be/event/mma-2/
LOCATION:Hall Michel Daerden\, Rue de L' Abattoir 65\, Herstal\, Liège\, 4040\, Belgique
CATEGORIES:Hall Michel Daerden Salle polyvalente
END:VEVENT
BEGIN:VEVENT
DTSTART;TZID=Europe/Brussels:20230616T230000
DTEND;TZID=Europe/Brussels:20230617T000000
DTSTAMP:20260423T200419
CREATED:20230607T061537Z
LAST-MODIFIED:20230608T081238Z
UID:876-1686956400-1686960000@herstal-sports.be
SUMMARY:Azzurrini
DESCRIPTION:
URL:https://herstal-sports.be/event/azzurrini/
LOCATION:Hall Michel Daerden\, Rue de L' Abattoir 65\, Herstal\, Liège\, 4040\, Belgique
CATEGORIES:Hall Michel Daerden Grande salle
END:VEVENT
BEGIN:VEVENT
DTSTART;TZID=Europe/Brussels:20230616T230000
DTEND;TZID=Europe/Brussels:20230617T000000
DTSTAMP:20260423T200419
CREATED:20230612T060815Z
LAST-MODIFIED:20230612T060815Z
UID:1102-1686956400-1686960000@herstal-sports.be
SUMMARY:Phoénix
DESCRIPTION:
URL:https://herstal-sports.be/event/phoenix/
LOCATION:Hall La Préalle\, Rue Emile Muraille 158\, Herstal\, Liège\, 4040\, Belgique
CATEGORIES:Hall La Préalle Grande Salle
END:VEVENT
END:VCALENDAR