BEGIN:VCALENDAR
VERSION:2.0
PRODID:-//Herstal Sports - ECPv6.15.20//NONSGML v1.0//EN
CALSCALE:GREGORIAN
METHOD:PUBLISH
X-WR-CALNAME:Herstal Sports
X-ORIGINAL-URL:https://herstal-sports.be
X-WR-CALDESC:Évènements pour Herstal Sports
REFRESH-INTERVAL;VALUE=DURATION:PT1H
X-Robots-Tag:noindex
X-PUBLISHED-TTL:PT1H
BEGIN:VTIMEZONE
TZID:Europe/Brussels
BEGIN:DAYLIGHT
TZOFFSETFROM:+0100
TZOFFSETTO:+0200
TZNAME:CEST
DTSTART:20220327T010000
END:DAYLIGHT
BEGIN:STANDARD
TZOFFSETFROM:+0200
TZOFFSETTO:+0100
TZNAME:CET
DTSTART:20221030T010000
END:STANDARD
BEGIN:DAYLIGHT
TZOFFSETFROM:+0100
TZOFFSETTO:+0200
TZNAME:CEST
DTSTART:20230326T010000
END:DAYLIGHT
BEGIN:STANDARD
TZOFFSETFROM:+0200
TZOFFSETTO:+0100
TZNAME:CET
DTSTART:20231029T010000
END:STANDARD
BEGIN:DAYLIGHT
TZOFFSETFROM:+0100
TZOFFSETTO:+0200
TZNAME:CEST
DTSTART:20240331T010000
END:DAYLIGHT
BEGIN:STANDARD
TZOFFSETFROM:+0200
TZOFFSETTO:+0100
TZNAME:CET
DTSTART:20241027T010000
END:STANDARD
END:VTIMEZONE
BEGIN:VEVENT
DTSTART;TZID=Europe/Brussels:20230612T110000
DTEND;TZID=Europe/Brussels:20230612T120000
DTSTAMP:20260423T120529
CREATED:20230607T063051Z
LAST-MODIFIED:20230609T063019Z
UID:911-1686567600-1686571200@herstal-sports.be
SUMMARY:Volley Herstal
DESCRIPTION:
URL:https://herstal-sports.be/event/volley-herstal/
LOCATION:Hall Michel Daerden\, Rue de L' Abattoir 65\, Herstal\, Liège\, 4040\, Belgique
CATEGORIES:Hall Michel Daerden Grande salle
END:VEVENT
BEGIN:VEVENT
DTSTART;TZID=Europe/Brussels:20230612T110000
DTEND;TZID=Europe/Brussels:20230612T140000
DTSTAMP:20260423T120529
CREATED:20230606T101028Z
LAST-MODIFIED:20230608T080441Z
UID:743-1686567600-1686578400@herstal-sports.be
SUMMARY:Ecoles
DESCRIPTION:
URL:https://herstal-sports.be/event/ecoles/
LOCATION:Liège
CATEGORIES:Hall Michel Daerden Grande salle
END:VEVENT
BEGIN:VEVENT
DTSTART;TZID=Europe/Brussels:20230612T150000
DTEND;TZID=Europe/Brussels:20230612T180000
DTSTAMP:20260423T120529
CREATED:20230606T102521Z
LAST-MODIFIED:20230608T091606Z
UID:751-1686582000-1686592800@herstal-sports.be
SUMMARY:Ecoles
DESCRIPTION:
URL:https://herstal-sports.be/event/ecoles-2/
LOCATION:Liège
CATEGORIES:Hall Michel Daerden Grande salle
END:VEVENT
BEGIN:VEVENT
DTSTART;TZID=Europe/Brussels:20230612T190000
DTEND;TZID=Europe/Brussels:20230612T210000
DTSTAMP:20260423T120529
CREATED:20230607T053047Z
LAST-MODIFIED:20230608T095227Z
UID:786-1686596400-1686603600@herstal-sports.be
SUMMARY:Hand JS enf
DESCRIPTION:
URL:https://herstal-sports.be/event/hand-js-enf/
LOCATION:Hall Michel Daerden\, Rue de L' Abattoir 65\, Herstal\, Liège\, 4040\, Belgique
CATEGORIES:Hall Michel Daerden Grande salle
END:VEVENT
BEGIN:VEVENT
DTSTART;TZID=Europe/Brussels:20230612T210000
DTEND;TZID=Europe/Brussels:20230613T010000
DTSTAMP:20260423T120529
CREATED:20230607T053229Z
LAST-MODIFIED:20230608T095336Z
UID:789-1686603600-1686618000@herstal-sports.be
SUMMARY:Volley
DESCRIPTION:
URL:https://herstal-sports.be/event/volley/
LOCATION:Hall Michel Daerden\, Rue de L' Abattoir 65\, Herstal\, Liège\, 4040\, Belgique
CATEGORIES:Hall Michel Daerden Grande salle
END:VEVENT
END:VCALENDAR